BEGIN:VCALENDAR
CALSCALE:GREGORIAN
X-WR-TIMEZONE;VALUE=TEXT:GMT
PRODID:PEAK Corporation - piCal -
X-WR-CALNAME;VALUE=TEXT:岐阜城秋まつり
VERSION:2.0
METHOD:PUBLISH
BEGIN:VTIMEZONE
TZID:GMT
BEGIN:STANDARD
DTSTART:19390101T000000
TZOFFSETFROM:+0000
TZOFFSETTO:+0000
TZNAME:GMT
END:STANDARD
END:VTIMEZONE
BEGIN:VEVENT
DTSTART;VALUE=DATE:20141116
DTEND;VALUE=DATE:20141117
LOCATION:岐阜県
TRANSP:OPAQUE
SEQUENCE:2
UID:pical060-f1ff22363d2110813ff4837432d9bbdb
DTSTAMP:20141115T132326Z
CATEGORIES:イベント
DESCRIPTION:<a href="http://okewanko.com/modules/oshirase/index.php?page=article&amp;storyid=240" rel="external">http://okewanko.com/modules/oshirase/index.php?page=article&amp;storyid=240</a>
SUMMARY:岐阜城秋まつり
PRIORITY:0
CLASS:PUBLIC
END:VEVENT
END:VCALENDAR
