BEGIN:VCALENDAR
CALSCALE:GREGORIAN
X-WR-TIMEZONE;VALUE=TEXT:GMT
PRODID:PEAK Corporation - piCal -
X-WR-CALNAME;VALUE=TEXT:ユニクロ 徳重店4/21新装オープンに登場
VERSION:2.0
METHOD:PUBLISH
BEGIN:VTIMEZONE
TZID:GMT
BEGIN:STANDARD
DTSTART:19390101T000000
TZOFFSETFROM:+0000
TZOFFSETTO:+0000
TZNAME:GMT
END:STANDARD
END:VTIMEZONE
BEGIN:VEVENT
DTSTART:20170421T000000Z
DTEND:20170421T123000Z
LOCATION:
TRANSP:OPAQUE
SEQUENCE:2
UID:pical060-13f5a3fc93b525717c12a2d1c8a3ff9e
DTSTAMP:20170416T122507Z
CATEGORIES:イベント
DESCRIPTION:<a href="http://okewanko.com/modules/oshirase/index.php?page=article&amp;storyid=340" rel="external">http://okewanko.com/modules/oshirase/index.php?page=article&amp;storyid=340</a>
SUMMARY:ユニクロ 徳重店4/21新装オープンに登場
PRIORITY:0
CLASS:PUBLIC
END:VEVENT
END:VCALENDAR
