BEGIN:VCALENDAR
CALSCALE:GREGORIAN
X-WR-TIMEZONE;VALUE=TEXT:GMT
PRODID:PEAK Corporation - piCal -
X-WR-CALNAME;VALUE=TEXT:ユニクロ 徳重店 新装オープン 2日目
VERSION:2.0
METHOD:PUBLISH
BEGIN:VTIMEZONE
TZID:GMT
BEGIN:STANDARD
DTSTART:19390101T000000
TZOFFSETFROM:+0000
TZOFFSETTO:+0000
TZNAME:GMT
END:STANDARD
END:VTIMEZONE
BEGIN:VEVENT
DTSTART:20170422T000000Z
DTEND:20170422T123000Z
LOCATION:
TRANSP:OPAQUE
SEQUENCE:0
UID:pical060-594a1e683d6483e565d783dec04c067f
DTSTAMP:20170416T122348Z
CATEGORIES:イベント
DESCRIPTION:<a href="http://okewanko.com/modules/oshirase/index.php?page=article&amp;storyid=340" rel="external">http://okewanko.com/modules/oshirase/index.php?page=article&amp;storyid=340</a>
SUMMARY:ユニクロ 徳重店 新装オープン 2日目
PRIORITY:0
CLASS:PUBLIC
END:VEVENT
END:VCALENDAR
