BEGIN:VCALENDAR
CALSCALE:GREGORIAN
X-WR-TIMEZONE;VALUE=TEXT:GMT
PRODID:PEAK Corporation - piCal -
X-WR-CALNAME;VALUE=TEXT:有松絞りまつり
VERSION:2.0
METHOD:PUBLISH
BEGIN:VTIMEZONE
TZID:GMT
BEGIN:STANDARD
DTSTART:19390101T000000
TZOFFSETFROM:+0000
TZOFFSETTO:+0000
TZNAME:GMT
END:STANDARD
END:VTIMEZONE
BEGIN:VEVENT
DTSTART:20170603T000000Z
DTEND:20170603T080000Z
LOCATION:愛知県名古屋市緑区
TRANSP:OPAQUE
SEQUENCE:2
UID:pical060-735bebc166fbf670fb0ad059e5aa7202
DTSTAMP:20170523T144110Z
CATEGORIES:イベント
DESCRIPTION:<a href="http://okewanko.com/modules/oshirase/index.php?page=article&amp;storyid=342" rel="external">http://okewanko.com/modules/oshirase/index.php?page=article&amp;storyid=342</a>
SUMMARY:有松絞りまつり
PRIORITY:0
CLASS:PUBLIC
END:VEVENT
END:VCALENDAR
