BEGIN:VCALENDAR
CALSCALE:GREGORIAN
X-WR-TIMEZONE;VALUE=TEXT:GMT
PRODID:PEAK Corporation - piCal -
X-WR-CALNAME;VALUE=TEXT:ご当地キャラフェス in愛知（犬山市）
VERSION:2.0
METHOD:PUBLISH
BEGIN:VTIMEZONE
TZID:GMT
BEGIN:STANDARD
DTSTART:19390101T000000
TZOFFSETFROM:+0000
TZOFFSETTO:+0000
TZNAME:GMT
END:STANDARD
END:VTIMEZONE
BEGIN:VEVENT
DTSTART:20180212T000000Z
DTEND:20180212T080000Z
LOCATION:愛知県犬山市
TRANSP:OPAQUE
SEQUENCE:2
UID:pical060-750fa638c4e3b4ae3ccc67d657e2060c
DTSTAMP:20171220T140848Z
CATEGORIES:イベント
DESCRIPTION:<a href="http://okewanko.com/modules/oshirase/index.php?page=article&amp;storyid=354" rel="external">http://okewanko.com/modules/oshirase/index.php?page=article&amp;storyid=354</a>
SUMMARY:ご当地キャラフェス in愛知（犬山市）
PRIORITY:0
CLASS:PUBLIC
END:VEVENT
END:VCALENDAR
