BEGIN:VCALENDAR
CALSCALE:GREGORIAN
X-WR-TIMEZONE;VALUE=TEXT:GMT
PRODID:PEAK Corporation - piCal -
X-WR-CALNAME;VALUE=TEXT:ご当地キャラ博in彦根 （滋賀）２日目
VERSION:2.0
METHOD:PUBLISH
BEGIN:VTIMEZONE
TZID:GMT
BEGIN:STANDARD
DTSTART:19390101T000000
TZOFFSETFROM:+0000
TZOFFSETTO:+0000
TZNAME:GMT
END:STANDARD
END:VTIMEZONE
BEGIN:VEVENT
DTSTART:20181021T000000Z
DTEND:20181021T080000Z
LOCATION:
TRANSP:OPAQUE
SEQUENCE:3
UID:pical060-4ccfcec50021f51a575d87cd3fae5a52
DTSTAMP:20180911T151550Z
CATEGORIES:イベント
DESCRIPTION:<a href="http://okewanko.com/modules/oshirase/index.php?page=article&amp;storyid=362" rel="external">http://okewanko.com/modules/oshirase/index.php?page=article&amp;storyid=362</a>
SUMMARY:ご当地キャラ博in彦根 （滋賀）２日目
PRIORITY:0
CLASS:PUBLIC
END:VEVENT
END:VCALENDAR
