BEGIN:VCALENDAR
CALSCALE:GREGORIAN
X-WR-TIMEZONE;VALUE=TEXT:GMT
PRODID:PEAK Corporation - piCal -
X-WR-CALNAME;VALUE=TEXT:バードッグ
VERSION:2.0
METHOD:PUBLISH
BEGIN:VTIMEZONE
TZID:GMT
BEGIN:STANDARD
DTSTART:19390101T000000
TZOFFSETFROM:+0000
TZOFFSETTO:+0000
TZNAME:GMT
END:STANDARD
END:VTIMEZONE
BEGIN:VEVENT
DTSTART:20191222T000000Z
DTEND:20191222T080000Z
LOCATION:愛知県名古屋市中村区笹島 名鉄レジャック
TRANSP:OPAQUE
SEQUENCE:1
UID:pical060-52be3a614d1f4152be8dd277d25a619e
DTSTAMP:20191013T141523Z
CATEGORIES:イベント
DESCRIPTION:<a href="http://okewanko.com/modules/oshirase/index.php?page=article&amp;storyid=370" rel="external">http://okewanko.com/modules/oshirase/index.php?page=article&amp;storyid=370</a>
SUMMARY:バードッグ
PRIORITY:0
CLASS:PUBLIC
END:VEVENT
END:VCALENDAR
